BEGIN:VCALENDAR
VERSION:2.0
PRODID:-//Boijl - ECPv6.15.20//NONSGML v1.0//EN
CALSCALE:GREGORIAN
METHOD:PUBLISH
X-ORIGINAL-URL:https://boijl.com
X-WR-CALDESC:Evenementen voor Boijl
REFRESH-INTERVAL;VALUE=DURATION:PT1H
X-Robots-Tag:noindex
X-PUBLISHED-TTL:PT1H
BEGIN:VTIMEZONE
TZID:Europe/Amsterdam
BEGIN:DAYLIGHT
TZOFFSETFROM:+0100
TZOFFSETTO:+0200
TZNAME:CEST
DTSTART:20250330T010000
END:DAYLIGHT
BEGIN:STANDARD
TZOFFSETFROM:+0200
TZOFFSETTO:+0100
TZNAME:CET
DTSTART:20251026T010000
END:STANDARD
BEGIN:DAYLIGHT
TZOFFSETFROM:+0100
TZOFFSETTO:+0200
TZNAME:CEST
DTSTART:20260329T010000
END:DAYLIGHT
BEGIN:STANDARD
TZOFFSETFROM:+0200
TZOFFSETTO:+0100
TZNAME:CET
DTSTART:20261025T010000
END:STANDARD
BEGIN:DAYLIGHT
TZOFFSETFROM:+0100
TZOFFSETTO:+0200
TZNAME:CEST
DTSTART:20270328T010000
END:DAYLIGHT
BEGIN:STANDARD
TZOFFSETFROM:+0200
TZOFFSETTO:+0100
TZNAME:CET
DTSTART:20271031T010000
END:STANDARD
END:VTIMEZONE
BEGIN:VEVENT
DTSTART;TZID=Europe/Amsterdam:20260408T100000
DTEND;TZID=Europe/Amsterdam:20260408T113000
DTSTAMP:20260421T162931
CREATED:20260110T205519Z
LAST-MODIFIED:20260410T170141Z
UID:95126-1775642400-1775647800@boijl.com
SUMMARY:Gezellige koffieochtend
DESCRIPTION:Je bent van harte welkom op de 2-wekelijkse koffieochtend in ’t Brinkhuus. Een leuke manier om met Boijligers die je kent bij te praten en andere Boijligers te ontmoeten. \nKinderen mee\nHeb je kinderen\, neem ze gerust mee. Er is voor hen ruimte om te spelen. \nLoop binnen\nJe hoeft je niet aan te melden\, kom gewoon langs. De koffie is voor eigen rekening.
URL:https://boijl.com/event/gezellige-koffieochtend/2026-04-08/
LOCATION:’t Brinkhuus\, De Brink 2\, Boijl\, 8392 MA
CATEGORIES:actie
ATTACH;FMTTYPE=image/jpeg:https://boijl.com/wp-content/uploads/2026/01/Koffies_kafea.nl_.jpg
END:VEVENT
BEGIN:VEVENT
DTSTART;TZID=Europe/Amsterdam:20260403T170000
DTEND;TZID=Europe/Amsterdam:20260403T200000
DTSTAMP:20260421T162931
CREATED:20250515T154151Z
LAST-MODIFIED:20260410T145902Z
UID:94602-1775235600-1775246400@boijl.com
SUMMARY:Samen eten\, voor jong en oud
DESCRIPTION:Elke eerste vrijdag van de maand (behalve in de zomervakantie) kun je in ’t Brinkhuus samen met dorspgenoten eten. \nKosten en aanmelden \nKosten € 8 (drankjes voor eigen rekening). Opgeven bij Erica 06-28450360 of erica07@solcon.nl \n 
URL:https://boijl.com/event/samen-eten-voor-jong-en-oud-3-2026-02-06/2026-04-03/
LOCATION:’t Brinkhuus\, De Brink 2\, Boijl\, 8392 MA
CATEGORIES:samen koken en eten
ATTACH;FMTTYPE=image/png:https://boijl.com/wp-content/uploads/2025/03/Ontwerp-zonder-titel-8.png
END:VEVENT
BEGIN:VEVENT
DTSTART;TZID=Europe/Amsterdam:20260327T200000
DTEND;TZID=Europe/Amsterdam:20260327T220000
DTSTAMP:20260421T162931
CREATED:20260118T191100Z
LAST-MODIFIED:20260118T191748Z
UID:95166-1774641600-1774648800@boijl.com
SUMMARY:Prijsklaverjassen
DESCRIPTION:Kom gezellig klaverjassen voor leuke prijzen!\n\nInleg is € 5 per persoon. Aanmelden is niet nodig.\n\n\n  \n  \nFoto: frimufilms
URL:https://boijl.com/event/prijsklaverjassen/2026-03-27/
LOCATION:’t Brinkhuus\, De Brink 2\, Boijl\, 8392 MA
CATEGORIES:sport en spel
ATTACH;FMTTYPE=image/jpeg:https://boijl.com/wp-content/uploads/2023/08/Klaverjassen_frimufilms.jpg
END:VEVENT
BEGIN:VEVENT
DTSTART;TZID=Europe/Amsterdam:20260325T100000
DTEND;TZID=Europe/Amsterdam:20260325T113000
DTSTAMP:20260421T162931
CREATED:20260110T205519Z
LAST-MODIFIED:20260410T170141Z
UID:95125-1774432800-1774438200@boijl.com
SUMMARY:Gezellige koffieochtend
DESCRIPTION:Je bent van harte welkom op de 2-wekelijkse koffieochtend in ’t Brinkhuus. Een leuke manier om met Boijligers die je kent bij te praten en andere Boijligers te ontmoeten. \nKinderen mee\nHeb je kinderen\, neem ze gerust mee. Er is voor hen ruimte om te spelen. \nLoop binnen\nJe hoeft je niet aan te melden\, kom gewoon langs. De koffie is voor eigen rekening.
URL:https://boijl.com/event/gezellige-koffieochtend/2026-03-25/
LOCATION:’t Brinkhuus\, De Brink 2\, Boijl\, 8392 MA
CATEGORIES:actie
ATTACH;FMTTYPE=image/jpeg:https://boijl.com/wp-content/uploads/2026/01/Koffies_kafea.nl_.jpg
END:VEVENT
BEGIN:VEVENT
DTSTART;TZID=Europe/Amsterdam:20260311T100000
DTEND;TZID=Europe/Amsterdam:20260311T113000
DTSTAMP:20260421T162931
CREATED:20260110T205519Z
LAST-MODIFIED:20260410T170141Z
UID:95124-1773223200-1773228600@boijl.com
SUMMARY:Gezellige koffieochtend
DESCRIPTION:Je bent van harte welkom op de 2-wekelijkse koffieochtend in ’t Brinkhuus. Een leuke manier om met Boijligers die je kent bij te praten en andere Boijligers te ontmoeten. \nKinderen mee\nHeb je kinderen\, neem ze gerust mee. Er is voor hen ruimte om te spelen. \nLoop binnen\nJe hoeft je niet aan te melden\, kom gewoon langs. De koffie is voor eigen rekening.
URL:https://boijl.com/event/gezellige-koffieochtend/2026-03-11/
LOCATION:’t Brinkhuus\, De Brink 2\, Boijl\, 8392 MA
CATEGORIES:actie
ATTACH;FMTTYPE=image/jpeg:https://boijl.com/wp-content/uploads/2026/01/Koffies_kafea.nl_.jpg
END:VEVENT
BEGIN:VEVENT
DTSTART;TZID=Europe/Amsterdam:20260306T170000
DTEND;TZID=Europe/Amsterdam:20260306T200000
DTSTAMP:20260421T162931
CREATED:20250515T154151Z
LAST-MODIFIED:20260410T145902Z
UID:94601-1772816400-1772827200@boijl.com
SUMMARY:Samen eten\, voor jong en oud
DESCRIPTION:Elke eerste vrijdag van de maand (behalve in de zomervakantie) kun je in ’t Brinkhuus samen met dorspgenoten eten. \nKosten en aanmelden \nKosten € 8 (drankjes voor eigen rekening). Opgeven bij Erica 06-28450360 of erica07@solcon.nl \n 
URL:https://boijl.com/event/samen-eten-voor-jong-en-oud-3-2026-02-06/2026-03-06/
LOCATION:’t Brinkhuus\, De Brink 2\, Boijl\, 8392 MA
CATEGORIES:samen koken en eten
ATTACH;FMTTYPE=image/png:https://boijl.com/wp-content/uploads/2025/03/Ontwerp-zonder-titel-8.png
END:VEVENT
BEGIN:VEVENT
DTSTART;TZID=Europe/Amsterdam:20260227T200000
DTEND;TZID=Europe/Amsterdam:20260227T220000
DTSTAMP:20260421T162931
CREATED:20260118T191100Z
LAST-MODIFIED:20260118T191748Z
UID:95165-1772222400-1772229600@boijl.com
SUMMARY:Prijsklaverjassen
DESCRIPTION:Kom gezellig klaverjassen voor leuke prijzen!\n\nInleg is € 5 per persoon. Aanmelden is niet nodig.\n\n\n  \n  \nFoto: frimufilms
URL:https://boijl.com/event/prijsklaverjassen/2026-02-27/
LOCATION:’t Brinkhuus\, De Brink 2\, Boijl\, 8392 MA
CATEGORIES:sport en spel
ATTACH;FMTTYPE=image/jpeg:https://boijl.com/wp-content/uploads/2023/08/Klaverjassen_frimufilms.jpg
END:VEVENT
BEGIN:VEVENT
DTSTART;TZID=Europe/Amsterdam:20260225T100000
DTEND;TZID=Europe/Amsterdam:20260225T113000
DTSTAMP:20260421T162931
CREATED:20260110T205519Z
LAST-MODIFIED:20260410T170140Z
UID:95123-1772013600-1772019000@boijl.com
SUMMARY:Gezellige koffieochtend
DESCRIPTION:Je bent van harte welkom op de 2-wekelijkse koffieochtend in ’t Brinkhuus. Een leuke manier om met Boijligers die je kent bij te praten en andere Boijligers te ontmoeten. \nKinderen mee\nHeb je kinderen\, neem ze gerust mee. Er is voor hen ruimte om te spelen. \nLoop binnen\nJe hoeft je niet aan te melden\, kom gewoon langs. De koffie is voor eigen rekening.
URL:https://boijl.com/event/gezellige-koffieochtend/2026-02-25/
LOCATION:’t Brinkhuus\, De Brink 2\, Boijl\, 8392 MA
CATEGORIES:actie
ATTACH;FMTTYPE=image/jpeg:https://boijl.com/wp-content/uploads/2026/01/Koffies_kafea.nl_.jpg
END:VEVENT
BEGIN:VEVENT
DTSTART;TZID=Europe/Amsterdam:20260211T100000
DTEND;TZID=Europe/Amsterdam:20260211T113000
DTSTAMP:20260421T162931
CREATED:20260110T205519Z
LAST-MODIFIED:20260410T170140Z
UID:95122-1770804000-1770809400@boijl.com
SUMMARY:Gezellige koffieochtend
DESCRIPTION:Je bent van harte welkom op de 2-wekelijkse koffieochtend in ’t Brinkhuus. Een leuke manier om met Boijligers die je kent bij te praten en andere Boijligers te ontmoeten. \nKinderen mee\nHeb je kinderen\, neem ze gerust mee. Er is voor hen ruimte om te spelen. \nLoop binnen\nJe hoeft je niet aan te melden\, kom gewoon langs. De koffie is voor eigen rekening.
URL:https://boijl.com/event/gezellige-koffieochtend/2026-02-11/
LOCATION:’t Brinkhuus\, De Brink 2\, Boijl\, 8392 MA
CATEGORIES:actie
ATTACH;FMTTYPE=image/jpeg:https://boijl.com/wp-content/uploads/2026/01/Koffies_kafea.nl_.jpg
END:VEVENT
BEGIN:VEVENT
DTSTART;TZID=Europe/Amsterdam:20260206T170000
DTEND;TZID=Europe/Amsterdam:20260206T200000
DTSTAMP:20260421T162931
CREATED:20250515T154151Z
LAST-MODIFIED:20260410T145901Z
UID:94600-1770397200-1770408000@boijl.com
SUMMARY:Samen eten\, voor jong en oud
DESCRIPTION:Elke eerste vrijdag van de maand (behalve in de zomervakantie) kun je in ’t Brinkhuus samen met dorspgenoten eten. \nKosten en aanmelden \nKosten € 8 (drankjes voor eigen rekening). Opgeven bij Erica 06-28450360 of erica07@solcon.nl \n 
URL:https://boijl.com/event/samen-eten-voor-jong-en-oud-3-2026-02-06/2026-02-06/
LOCATION:’t Brinkhuus\, De Brink 2\, Boijl\, 8392 MA
CATEGORIES:samen koken en eten
ATTACH;FMTTYPE=image/png:https://boijl.com/wp-content/uploads/2025/03/Ontwerp-zonder-titel-8.png
END:VEVENT
BEGIN:VEVENT
DTSTART;TZID=Europe/Amsterdam:20260130T200000
DTEND;TZID=Europe/Amsterdam:20260130T220000
DTSTAMP:20260421T162931
CREATED:20260118T191100Z
LAST-MODIFIED:20260118T191747Z
UID:95163-1769803200-1769810400@boijl.com
SUMMARY:Prijsklaverjassen
DESCRIPTION:Kom gezellig klaverjassen voor leuke prijzen!\n\nInleg is € 5 per persoon. Aanmelden is niet nodig.\n\n\n  \n  \nFoto: frimufilms
URL:https://boijl.com/event/prijsklaverjassen/2026-01-30/
LOCATION:’t Brinkhuus\, De Brink 2\, Boijl\, 8392 MA
CATEGORIES:sport en spel
ATTACH;FMTTYPE=image/jpeg:https://boijl.com/wp-content/uploads/2023/08/Klaverjassen_frimufilms.jpg
END:VEVENT
BEGIN:VEVENT
DTSTART;TZID=Europe/Amsterdam:20260128T100000
DTEND;TZID=Europe/Amsterdam:20260128T113000
DTSTAMP:20260421T162931
CREATED:20260110T205519Z
LAST-MODIFIED:20260410T170140Z
UID:95121-1769594400-1769599800@boijl.com
SUMMARY:Gezellige koffieochtend
DESCRIPTION:Je bent van harte welkom op de 2-wekelijkse koffieochtend in ’t Brinkhuus. Een leuke manier om met Boijligers die je kent bij te praten en andere Boijligers te ontmoeten. \nKinderen mee\nHeb je kinderen\, neem ze gerust mee. Er is voor hen ruimte om te spelen. \nLoop binnen\nJe hoeft je niet aan te melden\, kom gewoon langs. De koffie is voor eigen rekening.
URL:https://boijl.com/event/gezellige-koffieochtend/2026-01-28/
LOCATION:’t Brinkhuus\, De Brink 2\, Boijl\, 8392 MA
CATEGORIES:actie
ATTACH;FMTTYPE=image/jpeg:https://boijl.com/wp-content/uploads/2026/01/Koffies_kafea.nl_.jpg
END:VEVENT
BEGIN:VEVENT
DTSTART;TZID=Europe/Amsterdam:20260114T100000
DTEND;TZID=Europe/Amsterdam:20260114T113000
DTSTAMP:20260421T162931
CREATED:20260110T205519Z
LAST-MODIFIED:20260410T170139Z
UID:95118-1768384800-1768390200@boijl.com
SUMMARY:Gezellige koffieochtend
DESCRIPTION:Je bent van harte welkom op de 2-wekelijkse koffieochtend in ’t Brinkhuus. Een leuke manier om met Boijligers die je kent bij te praten en andere Boijligers te ontmoeten. \nKinderen mee\nHeb je kinderen\, neem ze gerust mee. Er is voor hen ruimte om te spelen. \nLoop binnen\nJe hoeft je niet aan te melden\, kom gewoon langs. De koffie is voor eigen rekening.
URL:https://boijl.com/event/gezellige-koffieochtend/2026-01-14/
LOCATION:’t Brinkhuus\, De Brink 2\, Boijl\, 8392 MA
CATEGORIES:actie
ATTACH;FMTTYPE=image/jpeg:https://boijl.com/wp-content/uploads/2026/01/Koffies_kafea.nl_.jpg
END:VEVENT
END:VCALENDAR