BEGIN:VCALENDAR
VERSION:2.0
PRODID:-//Boijl - ECPv6.15.20//NONSGML v1.0//EN
CALSCALE:GREGORIAN
METHOD:PUBLISH
X-WR-CALNAME:Boijl
X-ORIGINAL-URL:https://boijl.com
X-WR-CALDESC:Evenementen voor Boijl
REFRESH-INTERVAL;VALUE=DURATION:PT1H
X-Robots-Tag:noindex
X-PUBLISHED-TTL:PT1H
BEGIN:VTIMEZONE
TZID:Europe/Amsterdam
BEGIN:DAYLIGHT
TZOFFSETFROM:+0100
TZOFFSETTO:+0200
TZNAME:CEST
DTSTART:20250330T010000
END:DAYLIGHT
BEGIN:STANDARD
TZOFFSETFROM:+0200
TZOFFSETTO:+0100
TZNAME:CET
DTSTART:20251026T010000
END:STANDARD
BEGIN:DAYLIGHT
TZOFFSETFROM:+0100
TZOFFSETTO:+0200
TZNAME:CEST
DTSTART:20260329T010000
END:DAYLIGHT
BEGIN:STANDARD
TZOFFSETFROM:+0200
TZOFFSETTO:+0100
TZNAME:CET
DTSTART:20261025T010000
END:STANDARD
BEGIN:DAYLIGHT
TZOFFSETFROM:+0100
TZOFFSETTO:+0200
TZNAME:CEST
DTSTART:20270328T010000
END:DAYLIGHT
BEGIN:STANDARD
TZOFFSETFROM:+0200
TZOFFSETTO:+0100
TZNAME:CET
DTSTART:20271031T010000
END:STANDARD
END:VTIMEZONE
BEGIN:VEVENT
DTSTART;TZID=Europe/Amsterdam:20260422T100000
DTEND;TZID=Europe/Amsterdam:20260422T113000
DTSTAMP:20260421T145820
CREATED:20260110T205519Z
LAST-MODIFIED:20260410T170142Z
UID:95127-1776852000-1776857400@boijl.com
SUMMARY:Gezellige koffieochtend
DESCRIPTION:Je bent van harte welkom op de 2-wekelijkse koffieochtend in ’t Brinkhuus. Een leuke manier om met Boijligers die je kent bij te praten en andere Boijligers te ontmoeten. \nKinderen mee\nHeb je kinderen\, neem ze gerust mee. Er is voor hen ruimte om te spelen. \nLoop binnen\nJe hoeft je niet aan te melden\, kom gewoon langs. De koffie is voor eigen rekening.
URL:https://boijl.com/event/gezellige-koffieochtend/2026-04-22/
LOCATION:’t Brinkhuus\, De Brink 2\, Boijl\, 8392 MA
CATEGORIES:actie
ATTACH;FMTTYPE=image/jpeg:https://boijl.com/wp-content/uploads/2026/01/Koffies_kafea.nl_.jpg
END:VEVENT
BEGIN:VEVENT
DTSTART;TZID=Europe/Amsterdam:20260424T200000
DTEND;TZID=Europe/Amsterdam:20260424T220000
DTSTAMP:20260421T145820
CREATED:20260118T191100Z
LAST-MODIFIED:20260118T191748Z
UID:95167-1777060800-1777068000@boijl.com
SUMMARY:Prijsklaverjassen
DESCRIPTION:Kom gezellig klaverjassen voor leuke prijzen!\n\nInleg is € 5 per persoon. Aanmelden is niet nodig.\n\n\n  \n  \nFoto: frimufilms
URL:https://boijl.com/event/prijsklaverjassen/2026-04-24/
LOCATION:’t Brinkhuus\, De Brink 2\, Boijl\, 8392 MA
CATEGORIES:sport en spel
ATTACH;FMTTYPE=image/jpeg:https://boijl.com/wp-content/uploads/2023/08/Klaverjassen_frimufilms.jpg
END:VEVENT
BEGIN:VEVENT
DTSTART;TZID=Europe/Amsterdam:20260501T170000
DTEND;TZID=Europe/Amsterdam:20260501T200000
DTSTAMP:20260421T145820
CREATED:20250515T154151Z
LAST-MODIFIED:20260410T145902Z
UID:95176-1777654800-1777665600@boijl.com
SUMMARY:Samen eten\, voor jong en oud
DESCRIPTION:Elke eerste vrijdag van de maand (behalve in de zomervakantie) kun je in ’t Brinkhuus samen met dorspgenoten eten. \nKosten en aanmelden \nKosten € 8 (drankjes voor eigen rekening). Opgeven bij Erica 06-28450360 of erica07@solcon.nl \n 
URL:https://boijl.com/event/samen-eten-voor-jong-en-oud-3-2026-02-06/2026-05-01/
LOCATION:’t Brinkhuus\, De Brink 2\, Boijl\, 8392 MA
CATEGORIES:samen koken en eten
ATTACH;FMTTYPE=image/png:https://boijl.com/wp-content/uploads/2025/03/Ontwerp-zonder-titel-8.png
END:VEVENT
BEGIN:VEVENT
DTSTART;TZID=Europe/Amsterdam:20260506T100000
DTEND;TZID=Europe/Amsterdam:20260506T113000
DTSTAMP:20260421T145820
CREATED:20260110T205519Z
LAST-MODIFIED:20260110T205519Z
UID:95335-1778061600-1778067000@boijl.com
SUMMARY:Gezellige koffieochtend
DESCRIPTION:Je bent van harte welkom op de 2-wekelijkse koffieochtend in ’t Brinkhuus. Een leuke manier om met Boijligers die je kent bij te praten en andere Boijligers te ontmoeten. \nKinderen mee\nHeb je kinderen\, neem ze gerust mee. Er is voor hen ruimte om te spelen. \nLoop binnen\nJe hoeft je niet aan te melden\, kom gewoon langs. De koffie is voor eigen rekening.
URL:https://boijl.com/event/gezellige-koffieochtend/2026-05-06/
LOCATION:’t Brinkhuus\, De Brink 2\, Boijl\, 8392 MA
CATEGORIES:actie
ATTACH;FMTTYPE=image/jpeg:https://boijl.com/wp-content/uploads/2026/01/Koffies_kafea.nl_.jpg
END:VEVENT
BEGIN:VEVENT
DTSTART;TZID=Europe/Amsterdam:20260520T100000
DTEND;TZID=Europe/Amsterdam:20260520T113000
DTSTAMP:20260421T145820
CREATED:20260110T205519Z
LAST-MODIFIED:20260110T205519Z
UID:95336-1779271200-1779276600@boijl.com
SUMMARY:Gezellige koffieochtend
DESCRIPTION:Je bent van harte welkom op de 2-wekelijkse koffieochtend in ’t Brinkhuus. Een leuke manier om met Boijligers die je kent bij te praten en andere Boijligers te ontmoeten. \nKinderen mee\nHeb je kinderen\, neem ze gerust mee. Er is voor hen ruimte om te spelen. \nLoop binnen\nJe hoeft je niet aan te melden\, kom gewoon langs. De koffie is voor eigen rekening.
URL:https://boijl.com/event/gezellige-koffieochtend/2026-05-20/
LOCATION:’t Brinkhuus\, De Brink 2\, Boijl\, 8392 MA
CATEGORIES:actie
ATTACH;FMTTYPE=image/jpeg:https://boijl.com/wp-content/uploads/2026/01/Koffies_kafea.nl_.jpg
END:VEVENT
END:VCALENDAR