BEGIN:VCALENDAR
VERSION:2.0
PRODID:-//Boijl - ECPv6.15.20//NONSGML v1.0//EN
CALSCALE:GREGORIAN
METHOD:PUBLISH
X-WR-CALNAME:Boijl
X-ORIGINAL-URL:https://boijl.com
X-WR-CALDESC:Evenementen voor Boijl
REFRESH-INTERVAL;VALUE=DURATION:PT1H
X-Robots-Tag:noindex
X-PUBLISHED-TTL:PT1H
BEGIN:VTIMEZONE
TZID:Europe/Amsterdam
BEGIN:DAYLIGHT
TZOFFSETFROM:+0100
TZOFFSETTO:+0200
TZNAME:CEST
DTSTART:20250330T010000
END:DAYLIGHT
BEGIN:STANDARD
TZOFFSETFROM:+0200
TZOFFSETTO:+0100
TZNAME:CET
DTSTART:20251026T010000
END:STANDARD
BEGIN:DAYLIGHT
TZOFFSETFROM:+0100
TZOFFSETTO:+0200
TZNAME:CEST
DTSTART:20260329T010000
END:DAYLIGHT
BEGIN:STANDARD
TZOFFSETFROM:+0200
TZOFFSETTO:+0100
TZNAME:CET
DTSTART:20261025T010000
END:STANDARD
BEGIN:DAYLIGHT
TZOFFSETFROM:+0100
TZOFFSETTO:+0200
TZNAME:CEST
DTSTART:20270328T010000
END:DAYLIGHT
BEGIN:STANDARD
TZOFFSETFROM:+0200
TZOFFSETTO:+0100
TZNAME:CET
DTSTART:20271031T010000
END:STANDARD
END:VTIMEZONE
BEGIN:VEVENT
DTSTART;TZID=Europe/Amsterdam:20260408T100000
DTEND;TZID=Europe/Amsterdam:20260408T113000
DTSTAMP:20260421T233811
CREATED:20260110T205519Z
LAST-MODIFIED:20260421T153209Z
UID:95126-1775642400-1775647800@boijl.com
SUMMARY:Gezellige koffieochtend
DESCRIPTION:Je bent van harte welkom op de 2-wekelijkse koffieochtend in ’t Brinkhuus. Een leuke manier om met Boijligers die je kent bij te praten en andere Boijligers te ontmoeten. \nKinderen mee\nHeb je kinderen\, neem ze gerust mee. Er is voor hen ruimte om te spelen. \nLoop binnen\nJe hoeft je niet aan te melden\, kom gewoon langs. De koffie is voor eigen rekening.
URL:https://boijl.com/event/gezellige-koffieochtend/2026-04-08/
LOCATION:’t Brinkhuus\, De Brink 2\, Boijl\, 8392 MA
CATEGORIES:actie
ATTACH;FMTTYPE=image/jpeg:https://boijl.com/wp-content/uploads/2026/01/Koffies_kafea.nl_.jpg
END:VEVENT
BEGIN:VEVENT
DTSTART;TZID=Europe/Amsterdam:20260422T100000
DTEND;TZID=Europe/Amsterdam:20260422T113000
DTSTAMP:20260421T233811
CREATED:20260110T205519Z
LAST-MODIFIED:20260421T153209Z
UID:95127-1776852000-1776857400@boijl.com
SUMMARY:Gezellige koffieochtend
DESCRIPTION:Je bent van harte welkom op de 2-wekelijkse koffieochtend in ’t Brinkhuus. Een leuke manier om met Boijligers die je kent bij te praten en andere Boijligers te ontmoeten. \nKinderen mee\nHeb je kinderen\, neem ze gerust mee. Er is voor hen ruimte om te spelen. \nLoop binnen\nJe hoeft je niet aan te melden\, kom gewoon langs. De koffie is voor eigen rekening.
URL:https://boijl.com/event/gezellige-koffieochtend/2026-04-22/
LOCATION:’t Brinkhuus\, De Brink 2\, Boijl\, 8392 MA
CATEGORIES:actie
ATTACH;FMTTYPE=image/jpeg:https://boijl.com/wp-content/uploads/2026/01/Koffies_kafea.nl_.jpg
END:VEVENT
BEGIN:VEVENT
DTSTART;TZID=Europe/Amsterdam:20260427T100000
DTEND;TZID=Europe/Amsterdam:20260427T120000
DTSTAMP:20260421T233811
CREATED:20250416T121323Z
LAST-MODIFIED:20260118T200206Z
UID:94483-1777284000-1777291200@boijl.com
SUMMARY:Pop up koffie Koningsdag
DESCRIPTION:De pop up koffiebar Koningsdag-editie! Je vindt ons op het pleintje naast de ingang van De Tille. \nWat aan lekkers hebben we voor je?! \nKom gezellig langs voor koffie\, cappuchino\, thee of ranja en heerlijke eigengebakken taarten. \nEn trek vooral je oranje kleren aan!
URL:https://boijl.com/event/pop-up-koffie-koningsdag/
LOCATION:Dorpshuis De Tille\, De Brink 2\, Boijl\, Friesland\, 8392 MA
CATEGORIES:actie
ATTACH;FMTTYPE=image/jpeg:https://boijl.com/wp-content/uploads/2025/04/260427-Pop-up-Koningsdag.jpg
ORGANIZER;CN="Katja Moesker":MAILTO:dorpsbelang@boijl.com
END:VEVENT
END:VCALENDAR